BEGIN:VCALENDAR
VERSION:2.0
PRODID:-//The Australasian Lung Cancer Trials Group (ALTG) - ECPv5.0.2.1//NONSGML v1.0//EN
CALSCALE:GREGORIAN
METHOD:PUBLISH
X-WR-CALNAME:The Australasian Lung Cancer Trials Group (ALTG)
X-ORIGINAL-URL:https://altg.com.au
X-WR-CALDESC:Events for The Australasian Lung Cancer Trials Group (ALTG)
BEGIN:VTIMEZONE
TZID:Australia/Brisbane
BEGIN:STANDARD
TZOFFSETFROM:+1000
TZOFFSETTO:+1000
TZNAME:EST
DTSTART:20200101T000000
END:STANDARD
END:VTIMEZONE
BEGIN:VEVENT
DTSTART;TZID=Australia/Brisbane:20201023T080000
DTEND;TZID=Australia/Brisbane:20201024T170000
DTSTAMP:20200228T074355
CREATED:20191119T040104Z
LAST-MODIFIED:20191119T040209Z
UID:4281-1603440000-1603558800@altg.com.au
SUMMARY:6th ALTG Lung Cancer Preceptorship
DESCRIPTION:
URL:https://altg.com.au/event/6th-altg-lung-cancer-preceptorship/
LOCATION:Melbourne
END:VEVENT
BEGIN:VEVENT
DTSTART;VALUE=DATE:20201120
DTEND;VALUE=DATE:20201121
DTSTAMP:20200228T074355
CREATED:20191119T040457Z
LAST-MODIFIED:20191124T225101Z
UID:4286-1605830400-1605916799@altg.com.au
SUMMARY:ALTG Concept Development Working Group
DESCRIPTION:Open SAC and open MAC meetings. \n
URL:https://altg.com.au/event/altg-concept-development-working-group/
LOCATION:Sydney
END:VEVENT
END:VCALENDAR