BEGIN:VCALENDAR
VERSION:2.0
PRODID:-//The Australasian Lung Cancer Trials Group (ALTG) - ECPv5.0.2.1//NONSGML v1.0//EN
CALSCALE:GREGORIAN
METHOD:PUBLISH
X-WR-CALNAME:The Australasian Lung Cancer Trials Group (ALTG)
X-ORIGINAL-URL:https://altg.com.au
X-WR-CALDESC:Events for The Australasian Lung Cancer Trials Group (ALTG)
BEGIN:VTIMEZONE
TZID:Australia/Brisbane
BEGIN:STANDARD
TZOFFSETFROM:+1000
TZOFFSETTO:+1000
TZNAME:EST
DTSTART:20180101T000000
END:STANDARD
END:VTIMEZONE
BEGIN:VEVENT
DTSTART;TZID=Australia/Brisbane:20181006T083000
DTEND;TZID=Australia/Brisbane:20181006T160000
DTSTAMP:20200229T234623
CREATED:20180720T051656Z
LAST-MODIFIED:20181008T040254Z
UID:3284-1538814600-1538841600@altg.com.au
SUMMARY:ALTG Symposium 2018
DESCRIPTION:Australasia’s leading professionals converge for a 1-day experience gaining access to the most up-to-date advances in lung and thoracic cancers. \nThe Symposium features internationally respected presenters and aims to connect medical scientists and multidisciplinary healthcare professionals to current and cutting-edge innovations in research therapeutics from those most prominent in the oncology field. \nRegistration for the ALTG Symposium has closed\nDate & time: Saturday\, 6th of October\, 8:30am – 4pm\nLocation: Sheraton on the Park\, Sydney\nProgram: Download the event program\n\nPlease don’t forget to register at the same time for the ALTG Members Meeting on October 5th. \nTravel grants are available for delegates and consumers. Clinicians from rural and remote areas are encouraged to attend. Please register as a member and download the travel grant. \n
URL:https://altg.com.au/event/symposium-2018/
LOCATION:Sheraton on the Park\, 161 Elizabeth Street\, Sydney\, NSW\, 2000\, Australia
ORGANIZER;CN="Valerie%20McCool":MAILTO:altg@lungfoundation.com.au
END:VEVENT
END:VCALENDAR