BEGIN:VCALENDAR
VERSION:2.0
PRODID:-//The Australasian Lung Cancer Trials Group (ALTG) - ECPv5.0.2.1//NONSGML v1.0//EN
CALSCALE:GREGORIAN
METHOD:PUBLISH
X-WR-CALNAME:The Australasian Lung Cancer Trials Group (ALTG)
X-ORIGINAL-URL:https://altg.com.au
X-WR-CALDESC:Events for The Australasian Lung Cancer Trials Group (ALTG)
BEGIN:VTIMEZONE
TZID:Australia/Brisbane
BEGIN:STANDARD
TZOFFSETFROM:+1000
TZOFFSETTO:+1000
TZNAME:EST
DTSTART:20180101T000000
END:STANDARD
END:VTIMEZONE
BEGIN:VEVENT
DTSTART;TZID=Australia/Brisbane:20181005T130000
DTEND;TZID=Australia/Brisbane:20181005T170000
DTSTAMP:20200229T234647
CREATED:20180329T054612Z
LAST-MODIFIED:20181008T034433Z
UID:2441-1538744400-1538758800@altg.com.au
SUMMARY:ALTG Members Meeting
DESCRIPTION:Date & time: Friday\, 5th of October\, 1pm – 5pm \nLocation: Sheraton on the Park\, Sydney \nDownload the meeting agenda and Web Ex login details here  \nRegistration for this event has closed. \nThe Symposium 2018 will follow the Members Meeting on Saturday 6th of October at the same venue. Fore more information about the Symposium\, please click here. \nTravel grants are available for delegates and consumers. Clinicians from rural and remote areas are encouraged to attend. Please register as a member and download the travel grant. \n
URL:https://altg.com.au/event/altg-members-meeting/
LOCATION:Sheraton on the Park\, 161 Elizabeth Street\, Sydney\, NSW\, 2000\, Australia
ORGANIZER;CN="Valerie%20McCool":MAILTO:altg@lungfoundation.com.au
END:VEVENT
END:VCALENDAR