BEGIN:VCALENDAR
VERSION:2.0
PRODID:-//The Australasian Lung Cancer Trials Group (ALTG) - ECPv5.0.2.1//NONSGML v1.0//EN
CALSCALE:GREGORIAN
METHOD:PUBLISH
X-WR-CALNAME:The Australasian Lung Cancer Trials Group (ALTG)
X-ORIGINAL-URL:https://altg.com.au
X-WR-CALDESC:Events for The Australasian Lung Cancer Trials Group (ALTG)
BEGIN:VTIMEZONE
TZID:Australia/Brisbane
BEGIN:STANDARD
TZOFFSETFROM:+1000
TZOFFSETTO:+1000
TZNAME:EST
DTSTART:20180101T000000
END:STANDARD
END:VTIMEZONE
BEGIN:VEVENT
DTSTART;TZID=Australia/Brisbane:20181002T180000
DTEND;TZID=Australia/Brisbane:20181002T210000
DTSTAMP:20200229T234739
CREATED:20180329T051031Z
LAST-MODIFIED:20181008T025604Z
UID:2422-1538503200-1538514000@altg.com.au
SUMMARY:2018 ALTG Speaking Tour - Melbourne evening
DESCRIPTION:The 2018 ALTG state based speaking tour will be held in 2 states (Melbourne\, VIC and Brisbane\, QLD) over 2 evenings: the 2nd and 4th of October. It will focus on the Evolving Role of Immunotherapy in the Management of Lung Cancer. \nThe purpose of this educational initiative is to: increase knowledge of current evidence for first-line treatments in lung cancer; discuss potential areas open for research; connect with ALTG members\, attract new members and generate awareness. Clinicians and health professional are welcome to attend the event! \n\nDate & time:  October 2 @ 6:00 pm – 9:00 pm\nLocation: Pullman Melbourne on The Park\, 192 Wellington Parade\, Melbourne VIC 3000\nInternational guest speaker: Dr Bob Li\, USA\nInternational consumer advocacy guest speaker: Mr Chris Draft\, USA\nChaired by local speaker: A/Prof Tom John\nProgram: download the agenda \n\nRegistration for this event is now closed. \n  \nOur Sponsors:\nMr Chris Draft is proudly sponsored by: \n \n
URL:https://altg.com.au/event/altg-2018-speaking-tour-vic/
LOCATION:Pullman Melbourne on The Park\, 192 Wellington Parade\, Melbourne\, VIC\, 3000\, Australia
ORGANIZER;CN="Valerie%20McCool":MAILTO:altg@lungfoundation.com.au
END:VEVENT
END:VCALENDAR